BEGIN:VCALENDAR
VERSION:2.0
PRODID:-//Beverley and District Chamber of Trade - ECPv6.15.18//NONSGML v1.0//EN
CALSCALE:GREGORIAN
METHOD:PUBLISH
X-ORIGINAL-URL:https://beverleychamber.co.uk
X-WR-CALDESC:Events for Beverley and District Chamber of Trade
REFRESH-INTERVAL;VALUE=DURATION:PT1H
X-Robots-Tag:noindex
X-PUBLISHED-TTL:PT1H
BEGIN:VTIMEZONE
TZID:Europe/London
BEGIN:DAYLIGHT
TZOFFSETFROM:+0000
TZOFFSETTO:+0100
TZNAME:BST
DTSTART:20240331T010000
END:DAYLIGHT
BEGIN:STANDARD
TZOFFSETFROM:+0100
TZOFFSETTO:+0000
TZNAME:GMT
DTSTART:20241027T010000
END:STANDARD
BEGIN:DAYLIGHT
TZOFFSETFROM:+0000
TZOFFSETTO:+0100
TZNAME:BST
DTSTART:20250330T010000
END:DAYLIGHT
BEGIN:STANDARD
TZOFFSETFROM:+0100
TZOFFSETTO:+0000
TZNAME:GMT
DTSTART:20251026T010000
END:STANDARD
BEGIN:DAYLIGHT
TZOFFSETFROM:+0000
TZOFFSETTO:+0100
TZNAME:BST
DTSTART:20260329T010000
END:DAYLIGHT
BEGIN:STANDARD
TZOFFSETFROM:+0100
TZOFFSETTO:+0000
TZNAME:GMT
DTSTART:20261025T010000
END:STANDARD
END:VTIMEZONE
BEGIN:VEVENT
DTSTART;TZID=Europe/London:20250326T173000
DTEND;TZID=Europe/London:20250326T190000
DTSTAMP:20260423T160846
CREATED:20250120T151144Z
LAST-MODIFIED:20250319T084112Z
UID:1757-1743010200-1743015600@beverleychamber.co.uk
SUMMARY:2025 March Meeting
DESCRIPTION:Venue: East Riding Theatre
URL:https://beverleychamber.co.uk/event/2025-march-meeting/
LOCATION:East Riding Theatre\, 10 Lord Roberts Road\, Beverley\, HU17 9BE
CATEGORIES:Monthly Meeting
ATTACH;FMTTYPE=image/jpeg:https://beverleychamber.co.uk/wp-content/uploads/2023/11/East-Riding-Theatre.jpg
END:VEVENT
END:VCALENDAR