BEGIN:VCALENDAR
VERSION:2.0
PRODID:-//Beverley and District Chamber of Trade - ECPv6.15.18//NONSGML v1.0//EN
CALSCALE:GREGORIAN
METHOD:PUBLISH
X-ORIGINAL-URL:https://beverleychamber.co.uk
X-WR-CALDESC:Events for Beverley and District Chamber of Trade
REFRESH-INTERVAL;VALUE=DURATION:PT1H
X-Robots-Tag:noindex
X-PUBLISHED-TTL:PT1H
BEGIN:VTIMEZONE
TZID:Europe/London
BEGIN:DAYLIGHT
TZOFFSETFROM:+0000
TZOFFSETTO:+0100
TZNAME:BST
DTSTART:20240331T010000
END:DAYLIGHT
BEGIN:STANDARD
TZOFFSETFROM:+0100
TZOFFSETTO:+0000
TZNAME:GMT
DTSTART:20241027T010000
END:STANDARD
BEGIN:DAYLIGHT
TZOFFSETFROM:+0000
TZOFFSETTO:+0100
TZNAME:BST
DTSTART:20250330T010000
END:DAYLIGHT
BEGIN:STANDARD
TZOFFSETFROM:+0100
TZOFFSETTO:+0000
TZNAME:GMT
DTSTART:20251026T010000
END:STANDARD
BEGIN:DAYLIGHT
TZOFFSETFROM:+0000
TZOFFSETTO:+0100
TZNAME:BST
DTSTART:20260329T010000
END:DAYLIGHT
BEGIN:STANDARD
TZOFFSETFROM:+0100
TZOFFSETTO:+0000
TZNAME:GMT
DTSTART:20261025T010000
END:STANDARD
END:VTIMEZONE
BEGIN:VEVENT
DTSTART;TZID=Europe/London:20250226T173000
DTEND;TZID=Europe/London:20250226T190000
DTSTAMP:20260423T160814
CREATED:20250120T151034Z
LAST-MODIFIED:20250211T151549Z
UID:1744-1740591000-1740596400@beverleychamber.co.uk
SUMMARY:2025 February Meeting
DESCRIPTION:Venue Gallery at Salt Architects\, Lairgate
URL:https://beverleychamber.co.uk/event/2025-february-meeting/
LOCATION:Salt Architects\, 54 Lairgate\, Beverley\, HU17 8EU
CATEGORIES:Monthly Meeting
ATTACH;FMTTYPE=image/jpeg:https://beverleychamber.co.uk/wp-content/uploads/2025/01/Salt.jpg
END:VEVENT
END:VCALENDAR