BEGIN:VCALENDAR
VERSION:2.0
PRODID:-//Beverley and District Chamber of Trade - ECPv6.15.18//NONSGML v1.0//EN
CALSCALE:GREGORIAN
METHOD:PUBLISH
X-WR-CALNAME:Beverley and District Chamber of Trade
X-ORIGINAL-URL:https://beverleychamber.co.uk
X-WR-CALDESC:Events for Beverley and District Chamber of Trade
REFRESH-INTERVAL;VALUE=DURATION:PT1H
X-Robots-Tag:noindex
X-PUBLISHED-TTL:PT1H
BEGIN:VTIMEZONE
TZID:Europe/London
BEGIN:DAYLIGHT
TZOFFSETFROM:+0000
TZOFFSETTO:+0100
TZNAME:BST
DTSTART:20230326T010000
END:DAYLIGHT
BEGIN:STANDARD
TZOFFSETFROM:+0100
TZOFFSETTO:+0000
TZNAME:GMT
DTSTART:20231029T010000
END:STANDARD
BEGIN:DAYLIGHT
TZOFFSETFROM:+0000
TZOFFSETTO:+0100
TZNAME:BST
DTSTART:20240331T010000
END:DAYLIGHT
BEGIN:STANDARD
TZOFFSETFROM:+0100
TZOFFSETTO:+0000
TZNAME:GMT
DTSTART:20241027T010000
END:STANDARD
BEGIN:DAYLIGHT
TZOFFSETFROM:+0000
TZOFFSETTO:+0100
TZNAME:BST
DTSTART:20250330T010000
END:DAYLIGHT
BEGIN:STANDARD
TZOFFSETFROM:+0100
TZOFFSETTO:+0000
TZNAME:GMT
DTSTART:20251026T010000
END:STANDARD
END:VTIMEZONE
BEGIN:VEVENT
DTSTART;TZID=Europe/London:20240731T173000
DTEND;TZID=Europe/London:20240731T193000
DTSTAMP:20260424T022344
CREATED:20240528T152934Z
LAST-MODIFIED:20240611T142636Z
UID:1608-1722447000-1722454200@beverleychamber.co.uk
SUMMARY:BCoT July Meeting
DESCRIPTION:The July meeting of Beverley & District Chamber of Trade will be held at Beverley Racecourse
URL:https://beverleychamber.co.uk/event/bcot-july-meeting/
LOCATION:Beverley Racecourse\, York Road\, Beverley\, HU17 8QZ\, United Kingdom
CATEGORIES:Monthly Meeting
ATTACH;FMTTYPE=image/jpeg:https://beverleychamber.co.uk/wp-content/uploads/2024/05/Beverley-Racecourse.jpg
END:VEVENT
END:VCALENDAR