BEGIN:VCALENDAR
VERSION:2.0
PRODID:-//Beverley and District Chamber of Trade - ECPv6.15.18//NONSGML v1.0//EN
CALSCALE:GREGORIAN
METHOD:PUBLISH
X-ORIGINAL-URL:https://beverleychamber.co.uk
X-WR-CALDESC:Events for Beverley and District Chamber of Trade
REFRESH-INTERVAL;VALUE=DURATION:PT1H
X-Robots-Tag:noindex
X-PUBLISHED-TTL:PT1H
BEGIN:VTIMEZONE
TZID:Europe/London
BEGIN:DAYLIGHT
TZOFFSETFROM:+0000
TZOFFSETTO:+0100
TZNAME:BST
DTSTART:20230326T010000
END:DAYLIGHT
BEGIN:STANDARD
TZOFFSETFROM:+0100
TZOFFSETTO:+0000
TZNAME:GMT
DTSTART:20231029T010000
END:STANDARD
BEGIN:DAYLIGHT
TZOFFSETFROM:+0000
TZOFFSETTO:+0100
TZNAME:BST
DTSTART:20240331T010000
END:DAYLIGHT
BEGIN:STANDARD
TZOFFSETFROM:+0100
TZOFFSETTO:+0000
TZNAME:GMT
DTSTART:20241027T010000
END:STANDARD
BEGIN:DAYLIGHT
TZOFFSETFROM:+0000
TZOFFSETTO:+0100
TZNAME:BST
DTSTART:20250330T010000
END:DAYLIGHT
BEGIN:STANDARD
TZOFFSETFROM:+0100
TZOFFSETTO:+0000
TZNAME:GMT
DTSTART:20251026T010000
END:STANDARD
END:VTIMEZONE
BEGIN:VEVENT
DTSTART;TZID=Europe/London:20240424T174500
DTEND;TZID=Europe/London:20240424T193000
DTSTAMP:20260424T062737
CREATED:20240227T163111Z
LAST-MODIFIED:20240418T093300Z
UID:1362-1713980700-1713987000@beverleychamber.co.uk
SUMMARY:BCoT April Meeting
DESCRIPTION:This month’s meeting will be held at Beverley Hills Diner & Bar\, Flemingate
URL:https://beverleychamber.co.uk/event/bcot-april-meeting/
LOCATION:Beverley Hills Diner\, Unit E1 Hamilton Walk\, Flemingate Centre\, Beverley\, HU17 0PW\, United Kingdom
CATEGORIES:Monthly Meeting
ATTACH;FMTTYPE=image/webp:https://beverleychamber.co.uk/wp-content/uploads/2024/02/RHZkrDniPZoESxEvoXiQ59reaiA-scaled.webp
END:VEVENT
END:VCALENDAR